BEGIN:VCALENDAR
VERSION:2.0
PRODID:-//Etxalar - ECPv6.15.20//NONSGML v1.0//EN
CALSCALE:GREGORIAN
METHOD:PUBLISH
X-WR-CALNAME:Etxalar
X-ORIGINAL-URL:https://www.etxalar.eus/es/
X-WR-CALDESC:Eventos para Etxalar
REFRESH-INTERVAL;VALUE=DURATION:PT1H
X-Robots-Tag:noindex
X-PUBLISHED-TTL:PT1H
BEGIN:VTIMEZONE
TZID:Europe/Madrid
BEGIN:DAYLIGHT
TZOFFSETFROM:+0100
TZOFFSETTO:+0200
TZNAME:CEST
DTSTART:20250330T010000
END:DAYLIGHT
BEGIN:STANDARD
TZOFFSETFROM:+0200
TZOFFSETTO:+0100
TZNAME:CET
DTSTART:20251026T010000
END:STANDARD
BEGIN:DAYLIGHT
TZOFFSETFROM:+0100
TZOFFSETTO:+0200
TZNAME:CEST
DTSTART:20260329T010000
END:DAYLIGHT
BEGIN:STANDARD
TZOFFSETFROM:+0200
TZOFFSETTO:+0100
TZNAME:CET
DTSTART:20261025T010000
END:STANDARD
BEGIN:DAYLIGHT
TZOFFSETFROM:+0100
TZOFFSETTO:+0200
TZNAME:CEST
DTSTART:20270328T010000
END:DAYLIGHT
BEGIN:STANDARD
TZOFFSETFROM:+0200
TZOFFSETTO:+0100
TZNAME:CET
DTSTART:20271031T010000
END:STANDARD
END:VTIMEZONE
BEGIN:VEVENT
DTSTART;TZID=Europe/Madrid:20260424T190000
DTEND;TZID=Europe/Madrid:20260424T190000
DTSTAMP:20260424T175930
CREATED:20260423T172431Z
LAST-MODIFIED:20260423T172539Z
UID:399892-1777057200-1777057200@www.etxalar.eus
SUMMARY:Presentación libro "Etxe dotore aunitz"
DESCRIPTION:
URL:https://www.etxalar.eus/es/ekitaldia/presentacion-libro-etxe-dotore-aunitz/
LOCATION:Casa de cultura Pello Apezetxea
CATEGORIES:Charla,Evento,Lectura
ATTACH;FMTTYPE=image/jpeg:https://www.etxalar.eus/wp-content/uploads/2026/04/Etxe-dotore-aunitz-liburu-aurkezpena.jpg
ORGANIZER;CN="Altxata Kirol eta Kultur elkartea":MAILTO:altxata@gmail.com
END:VEVENT
END:VCALENDAR