BEGIN:VCALENDAR
VERSION:2.0
PRODID:-//Etxalar - ECPv6.15.20//NONSGML v1.0//EN
CALSCALE:GREGORIAN
METHOD:PUBLISH
X-WR-CALNAME:Etxalar
X-ORIGINAL-URL:https://www.etxalar.eus/es/
X-WR-CALDESC:Eventos para Etxalar
REFRESH-INTERVAL;VALUE=DURATION:PT1H
X-Robots-Tag:noindex
X-PUBLISHED-TTL:PT1H
BEGIN:VTIMEZONE
TZID:Europe/Madrid
BEGIN:DAYLIGHT
TZOFFSETFROM:+0100
TZOFFSETTO:+0200
TZNAME:CEST
DTSTART:20240331T010000
END:DAYLIGHT
BEGIN:STANDARD
TZOFFSETFROM:+0200
TZOFFSETTO:+0100
TZNAME:CET
DTSTART:20241027T010000
END:STANDARD
BEGIN:DAYLIGHT
TZOFFSETFROM:+0100
TZOFFSETTO:+0200
TZNAME:CEST
DTSTART:20250330T010000
END:DAYLIGHT
BEGIN:STANDARD
TZOFFSETFROM:+0200
TZOFFSETTO:+0100
TZNAME:CET
DTSTART:20251026T010000
END:STANDARD
BEGIN:DAYLIGHT
TZOFFSETFROM:+0100
TZOFFSETTO:+0200
TZNAME:CEST
DTSTART:20260329T010000
END:DAYLIGHT
BEGIN:STANDARD
TZOFFSETFROM:+0200
TZOFFSETTO:+0100
TZNAME:CET
DTSTART:20261025T010000
END:STANDARD
END:VTIMEZONE
BEGIN:VEVENT
DTSTART;TZID=Europe/Madrid:20251113T180000
DTEND;TZID=Europe/Madrid:20251113T180000
DTSTAMP:20260421T130114
CREATED:20251105T154315Z
LAST-MODIFIED:20251105T154317Z
UID:398902-1763056800-1763056800@www.etxalar.eus
SUMMARY:Estreno Go!azen 12.0
DESCRIPTION:
URL:https://www.etxalar.eus/es/ekitaldia/estreno-goazen-12-0/
LOCATION:Casa de cultura Pello Apezetxea
CATEGORIES:Evento,Película
ATTACH;FMTTYPE=image/jpeg:https://www.etxalar.eus/wp-content/uploads/2025/11/Goazen-12.0.jpg
ORGANIZER;CN="Ayuntamiento de Etxalar":MAILTO:udala@etxalar.eus
END:VEVENT
END:VCALENDAR